BEGIN:VCALENDAR
VERSION:2.0
PRODID:-//1-Day Lead Paint Class | RRP | Baltimore | Annapolis - ECPv6.15.16//NONSGML v1.0//EN
CALSCALE:GREGORIAN
METHOD:PUBLISH
X-WR-CALNAME:1-Day Lead Paint Class | RRP | Baltimore | Annapolis
X-ORIGINAL-URL:https://bwileadclass.com
X-WR-CALDESC:Events for 1-Day Lead Paint Class | RRP | Baltimore | Annapolis
REFRESH-INTERVAL;VALUE=DURATION:PT1H
X-Robots-Tag:noindex
X-PUBLISHED-TTL:PT1H
BEGIN:VTIMEZONE
TZID:America/New_York
BEGIN:DAYLIGHT
TZOFFSETFROM:-0500
TZOFFSETTO:-0400
TZNAME:EDT
DTSTART:20250309T070000
END:DAYLIGHT
BEGIN:STANDARD
TZOFFSETFROM:-0400
TZOFFSETTO:-0500
TZNAME:EST
DTSTART:20251102T060000
END:STANDARD
BEGIN:DAYLIGHT
TZOFFSETFROM:-0500
TZOFFSETTO:-0400
TZNAME:EDT
DTSTART:20260308T070000
END:DAYLIGHT
BEGIN:STANDARD
TZOFFSETFROM:-0400
TZOFFSETTO:-0500
TZNAME:EST
DTSTART:20261101T060000
END:STANDARD
BEGIN:DAYLIGHT
TZOFFSETFROM:-0500
TZOFFSETTO:-0400
TZNAME:EDT
DTSTART:20270314T070000
END:DAYLIGHT
BEGIN:STANDARD
TZOFFSETFROM:-0400
TZOFFSETTO:-0500
TZNAME:EST
DTSTART:20271107T060000
END:STANDARD
END:VTIMEZONE
BEGIN:VEVENT
DTSTART;TZID=America/New_York:20260429T080000
DTEND;TZID=America/New_York:20260429T160000
DTSTAMP:20260419T101642
CREATED:20260327T191946Z
LAST-MODIFIED:20260327T191946Z
UID:2316-1777449600-1777478400@bwileadclass.com
SUMMARY:Lead Paint Class RRP Initial Certification Wednesday\, April 29\, 2026 ANNAPOLIS
DESCRIPTION:Same-Day Lead Paint Certificate\nRenovation\, Repair & Painting Initial Course\n1-Day EPA Approved Lead Paint Certification class for contractors of all types\, landlords\, property owners\, and property managers. If you own a rental property or are hired to perform renovations\, repairs or paint in a home built before 1978 you need this certification! \nGet EPA lead certified and meet HUD requirements. – Avoid fines of over $40\,000 per violation\, per day with this 1-day class.\nLEAVE CLASS WITH YOUR CERTIFICATE IN-HAND!
URL:https://bwileadclass.com/event/lead-paint-class-rrp-initial-certification-annapolis-4/
LOCATION:BWI Lead Safety for RRP Institute\, 1993 Moreland Parkway\, Suite 203\, Annapolis\, MD\, 21401\, United States
CATEGORIES:Initial RRP Lead Paint Class
ATTACH;FMTTYPE=image/png:https://bwileadclass.com/wp-content/uploads/2022/01/reserve-your-seat-FI.png
ORGANIZER;CN="Bruce Shields":MAILTO:training@bwileadclass.com
END:VEVENT
BEGIN:VEVENT
DTSTART;TZID=America/New_York:20260513T080000
DTEND;TZID=America/New_York:20260513T160000
DTSTAMP:20260419T101642
CREATED:20260415T190007Z
LAST-MODIFIED:20260415T190007Z
UID:2319-1778659200-1778688000@bwileadclass.com
SUMMARY:Lead Paint Class RRP Initial Certification Wednesday\, May 13\, 2026 ANNAPOLIS
DESCRIPTION:Same-Day Lead Paint Certificate\nRenovation\, Repair & Painting Initial Course\n1-Day EPA Approved Lead Paint Certification class for contractors of all types\, landlords\, property owners\, and property managers. If you own a rental property or are hired to perform renovations\, repairs or paint in a home built before 1978 you need this certification! \nGet EPA lead certified and meet HUD requirements. – Avoid fines of over $40\,000 per violation\, per day with this 1-day class.\nLEAVE CLASS WITH YOUR CERTIFICATE IN-HAND!
URL:https://bwileadclass.com/event/lead-paint-class-rrp-initial-certification-annapolis-2/
LOCATION:BWI Lead Safety for RRP Institute\, 1993 Moreland Parkway\, Suite 203\, Annapolis\, MD\, 21401\, United States
CATEGORIES:Initial RRP Lead Paint Class
ATTACH;FMTTYPE=image/png:https://bwileadclass.com/wp-content/uploads/2022/01/reserve-your-seat-FI.png
ORGANIZER;CN="Bruce Shields":MAILTO:training@bwileadclass.com
END:VEVENT
BEGIN:VEVENT
DTSTART;TZID=America/New_York:20260527T080000
DTEND;TZID=America/New_York:20260527T160000
DTSTAMP:20260419T101642
CREATED:20260416T161246Z
LAST-MODIFIED:20260416T161246Z
UID:2322-1779868800-1779897600@bwileadclass.com
SUMMARY:Lead Paint Class RRP Initial Certification Wednesday\, May 27\, 2026 ANNAPOLIS
DESCRIPTION:Same-Day Lead Paint Certificate\nRenovation\, Repair & Painting Initial Course\n1-Day EPA Approved Lead Paint Certification class for contractors of all types\, landlords\, property owners\, and property managers. If you own a rental property or are hired to perform renovations\, repairs or paint in a home built before 1978 you need this certification! \nGet EPA lead certified and meet HUD requirements. – Avoid fines of over $40\,000 per violation\, per day with this 1-day class.\nLEAVE CLASS WITH YOUR CERTIFICATE IN-HAND!
URL:https://bwileadclass.com/event/lead-paint-class-rrp-initial-certification-annapolis-3/
LOCATION:BWI Lead Safety for RRP Institute\, 1993 Moreland Parkway\, Suite 203\, Annapolis\, MD\, 21401\, United States
CATEGORIES:Initial RRP Lead Paint Class
ATTACH;FMTTYPE=image/png:https://bwileadclass.com/wp-content/uploads/2022/01/reserve-your-seat-FI.png
ORGANIZER;CN="Bruce Shields":MAILTO:training@bwileadclass.com
END:VEVENT
END:VCALENDAR